OziExplorer Map Data File Version 2.2
TeneS_OpStMa_15
D:\OziExplorer\NoniMap_akt\TeneS_OpStMa_15.ozfx3
1 ,Map Code,
WGS 84,, 0.0000, 0.0000,WGS 84
Reserved 1
Reserved 2
Magnetic Variation,,,E
Map Projection,Mercator,PolyCal,No,AutoCalOnly,No,BSBUseWPX,No
Point01,xy,0,0,in, deg,28,11.45575,N,16,50.08730,W, grid,,,,N
Point02,xy,9744,0,in, deg,28,11.45575,N,16,24.99727,W, grid,,,,N
Point03,xy,9744,5184,in, deg,27,59.68000,N,16,24.99727,W, grid,,,,N
Point04,xy,0,5184,in, deg,27,59.68000,N,16,50.08730,W, grid,,,,N
Projection Setup,,,,,,,,,,
Map Feature = MF ; Map Comment = MC These follow if they exist
Track File = TF These follow if they exist
Moving Map Parameters = MM? These follow if they exist
MM0,No
MMPNUM,4
MMPXY,1,0,0
MMPXY,2,9744,0
MMPXY,3,9744,5184
MMPXY,4,0,5184
MMPLL,1,-16.834788,28.190929
MMPLL,2,-16.416621,28.190929
MMPLL,3,-16.416621,27.994667
MMPLL,4,-16.834788,27.994667
MOP,Map Open Position,0,0
IWH,Map Image Width/Height,9744,5184
MM1B,4.2003
