OziExplorer Map Data File Version 2.2
TeneO_OpStMa_15
D:\OziExplorer\NoniMap_akt\TeneO_OpStMa_15.ozfx3
1 ,Map Code,
WGS 84,, 0.0000, 0.0000,WGS 84
Reserved 1
Reserved 2
Magnetic Variation,,,E
Map Projection,Mercator,PolyCal,No,AutoCalOnly,No,BSBUseWPX,No
Point01,xy,0,0,in, deg,28,35.56646,N,16,25.87275,W, grid,,,,N
Point02,xy,7328,0,in, deg,28,35.56646,N,16,7.00373,W, grid,,,,N
Point03,xy,7328,7504,in, deg,28,18.57796,N,16,7.00373,W, grid,,,,N
Point04,xy,0,7504,in, deg,28,18.57796,N,16,25.87275,W, grid,,,,N
Projection Setup,,,,,,,,,,
Map Feature = MF ; Map Comment = MC These follow if they exist
Track File = TF These follow if they exist
Moving Map Parameters = MM? These follow if they exist
MM0,No
MMPNUM,4
MMPXY,1,0,0
MMPXY,2,7328,0
MMPXY,3,7328,7504
MMPXY,4,0,7504
MMPLL,1,-16.431212,28.592774
MMPLL,2,-16.116729,28.592774
MMPLL,3,-16.116729,28.309633
MMPLL,4,-16.431212,28.309633
MOP,Map Open Position,0,0
IWH,Map Image Width/Height,7328,7504
MM1B,4.1862
