OziExplorer Map Data File Version 2.2
TeneNW_OpStMa_15
TeneNW_OpStMa_15.jpg
1 ,Map Code,
WGS 84,, 0.0000, 0.0000,WGS 84
Reserved 1
Reserved 2
Magnetic Variation,,,E
Map Projection,Mercator,PolyCal,No,AutoCalOnly,No,BSBUseWPX,No
Point01,xy,0,0,in, deg,28,24.21564,N,16,55.98129,W, grid,,,,N
Point02,xy,8320,0,in, deg,28,24.21564,N,16,34.55795,W, grid,,,,N
Point03,xy,8320,5936,in, deg,28,10.75672,N,16,34.55795,W, grid,,,,N
Point04,xy,0,5936,in, deg,28,10.75672,N,16,55.98129,W, grid,,,,N
Projection Setup,,,,,,,,,,
Map Feature = MF ; Map Comment = MC These follow if they exist
Track File = TF These follow if they exist
Moving Map Parameters = MM? These follow if they exist
MM0,No
MMPNUM,4
MMPXY,1,0,0
MMPXY,2,8320,0
MMPXY,3,8320,5936
MMPXY,4,0,5936
MMPLL,1,-16.933022,28.403594
MMPLL,2,-16.575966,28.403594
MMPLL,3,-16.575966,28.179279
MMPLL,4,-16.933022,28.179279
MOP,Map Open Position,0,0
IWH,Map Image Width/Height,8320,5936
MM1B,4.1926
