OziExplorer Map Data File Version 2.2
TeneM_OpStMa_15
TeneM_OpStMa_15.jpg
1 ,Map Code,
WGS 84,, 0.0000, 0.0000,WGS 84
Reserved 1
Reserved 2
Magnetic Variation,,,E
Map Projection,Mercator,PolyCal,No,AutoCalOnly,No,BSBUseWPX,No
Point01,xy,0,0,in, deg,28,33.71225,N,16,35.54415,W, grid,,,,N
Point02,xy,5552,0,in, deg,28,33.71225,N,16,21.24819,W, grid,,,,N
Point03,xy,5552,10048,in, deg,28,10.94737,N,16,21.24819,W, grid,,,,N
Point04,xy,0,10048,in, deg,28,10.94737,N,16,35.54415,W, grid,,,,N
Projection Setup,,,,,,,,,,
Map Feature = MF ; Map Comment = MC These follow if they exist
Track File = TF These follow if they exist
Moving Map Parameters = MM? These follow if they exist
MM0,No
MMPNUM,4
MMPXY,1,0,0
MMPXY,2,5552,0
MMPXY,3,5552,10048
MMPXY,4,0,10048
MMPLL,1,-16.592402,28.561871
MMPLL,2,-16.354136,28.561871
MMPLL,3,-16.354136,28.182456
MMPLL,4,-16.592402,28.182456
MOP,Map Open Position,0,0
IWH,Map Image Width/Height,5552,10048
MM1B,4.1894
