OziExplorer Map Data File Version 2.2
Fuerte_15_Nord
D:\OziExplorer\Maps_Fuerte_15_Nord&Sued\Fuerte_15_Nord.ozfx3
1 ,Map Code,
WGS 84,, 0.0000, 0.0000,WGS 84
Reserved 1
Reserved 2
Magnetic Variation,,,E
Map Projection,Mercator,PolyCal,No,AutoCalOnly,No,BSBUseWPX,No
Point01,xy,0,0,in, deg,28,46.55158,N,14,9.84484,W, grid,,,,N
Point02,xy,8128,0,in, deg,28,46.55158,N,13,48.91588,W, grid,,,,N
Point03,xy,8128,10048,in, deg,28,23.83286,N,13,48.91588,W, grid,,,,N
Point04,xy,0,10048,in, deg,28,23.83286,N,14,9.84484,W, grid,,,,N
Projection Setup,,,,,,,,,,
Map Feature = MF ; Map Comment = MC These follow if they exist
Track File = TF These follow if they exist
Moving Map Parameters = MM? These follow if they exist
MM0,No
MMPNUM,4
MMPXY,1,0,0
MMPXY,2,8128,0
MMPXY,3,8128,10048
MMPXY,4,0,10048
MMPLL,1,-14.164081,28.775860
MMPLL,2,-13.815265,28.775860
MMPLL,3,-13.815265,28.397214
MMPLL,4,-14.164081,28.397214
MOP,Map Open Position,0,0
IWH,Map Image Width/Height,8128,10048
MM1B,4.1809
