OziExplorer Map Data File Version 2.2
Fuerte_13_ges
D:\OziExplorer\Maps_Fuerte_13_ges\Fuerte_13_ges.ozfx3
1 ,Map Code,
WGS 84,, 0.0000, 0.0000,WGS 84
Reserved 1
Reserved 2
Magnetic Variation,,,E
Map Projection,Mercator,PolyCal,No,AutoCalOnly,No,BSBUseWPX,No
Point01,xy,0,0,in, deg,28,46.11372,N,14,30.44678,W, grid,,,,N
Point02,xy,4080,0,in, deg,28,46.11372,N,13,48.42407,W, grid,,,,N
Point03,xy,4080,4800,in, deg,28,2.62823,N,13,48.42407,W, grid,,,,N
Point04,xy,0,4800,in, deg,28,2.62823,N,14,30.44678,W, grid,,,,N
Projection Setup,,,,,,,,,,
Map Feature = MF ; Map Comment = MC These follow if they exist
Track File = TF These follow if they exist
Moving Map Parameters = MM? These follow if they exist
MM0,No
MMPNUM,4
MMPXY,1,0,0
MMPXY,2,4080,0
MMPXY,3,4080,4800
MMPXY,4,0,4800
MMPLL,1,-14.507446,28.768562
MMPLL,2,-13.807068,28.768562
MMPLL,3,-13.807068,28.043804
MMPLL,4,-14.507446,28.043804
MOP,Map Open Position,0,0
IWH,Map Image Width/Height,4080,4800
MM1B,16.7521
